BEGIN:VCALENDAR
VERSION:2.0
PRODID:-//goldendaysadventures - ECPv6.13.0//NONSGML v1.0//EN
CALSCALE:GREGORIAN
METHOD:PUBLISH
X-WR-CALNAME:goldendaysadventures
X-ORIGINAL-URL:https://goldendaysadventures.com
X-WR-CALDESC:Events for goldendaysadventures
REFRESH-INTERVAL;VALUE=DURATION:PT1H
X-Robots-Tag:noindex
X-PUBLISHED-TTL:PT1H
BEGIN:VTIMEZONE
TZID:UTC
BEGIN:STANDARD
TZOFFSETFROM:+0000
TZOFFSETTO:+0000
TZNAME:UTC
DTSTART:20250101T000000
END:STANDARD
END:VTIMEZONE
BEGIN:VEVENT
DTSTART;TZID=UTC:20250926T080000
DTEND;TZID=UTC:20250927T180000
DTSTAMP:20260422T001733
CREATED:20250518T093306Z
LAST-MODIFIED:20250518T093306Z
UID:6610-1758873600-1758996000@goldendaysadventures.com
SUMMARY:The East African Golden Heritage & Tourism Experience
DESCRIPTION:The East African Golden Heritage & Tourism Experience is a vibrant two-day event set to take place on September 26–27\, 2025 at Da-2 Place Gardens\, Akright\, Entebbe\, Uganda. This unique experience brings together tourism players\, entrepreneurs\, cultural enthusiasts\, and the general public to celebrate the rich heritage of East Africa. \nOrganized by Golden Days Adventures in collaboration with Promote Kenya\, the event will feature a dynamic mix of activities including exhibitions\, networking opportunities\, interactive workshops\, cultural showcases\, fun contests\, and games. A major highlight will be Uganda’s first-ever 3D hologram show and an open-air movie experience under the stars. \nIt’s more than just an expo – it’s a celebration of innovation\, business\, culture\, and fun\, all in one space. Whether you’re a business looking to showcase your brand or a visitor eager to explore the diversity of East African traditions\, this event promises something unforgettable for everyone. \n!!Click The Link Below To Download The Newsletter!! \nThe East African Golden Heritage & Tourism Experience (1)
URL:https://goldendaysadventures.com/event/the-east-african-golden-heritage-tourism-experience/
LOCATION:Da-2 Place Gardens\, Da-2 Place Gardens\,Akright\, Entebbe\, Uganda\, Akright\, Entebbe\, Uganda
CATEGORIES:Tourism Expo
ATTACH;FMTTYPE=image/png:https://goldendaysadventures.com/wp-content/uploads/2025/05/Blue-Red-and-White-Business-Expo-Instagram-Post.png
ORGANIZER;CN="Golden Days Adventures":MAILTO:goldendaysadventures7@gmail.com
END:VEVENT
END:VCALENDAR